BEGIN:VCALENDAR
VERSION:2.0
PRODID:-//eventon.com NONSGML v1.0//EN
BEGIN:VEVENT
UID:69e4cd20a489a
DTSTAMP:20260419T154000
DTSTART:20240907T100000Z
DTEND:20240907T103000Z
TZID:Europe/Moscow
LOCATION:Зал 4 PRO Дизайн 
SUMMARY:Почему нельзя делать ремонт без дизайна
DESCRIPTION: Почему нельзя делать ремонт без дизайна\nhttps://szd-expo.ru/events/pochemu-nelzya-delat-remont-bez-dizajna/
URL:https://szd-expo.ru/events/pochemu-nelzya-delat-remont-bez-dizajna/
END:VEVENT
END:VCALENDAR