BEGIN:VCALENDAR
VERSION:2.0
PRODID:-//eventon.com NONSGML v1.0//EN
BEGIN:VEVENT
UID:69e4c38dc7b4c
DTSTAMP:20260419T145909
DTSTART:20260322T131500Z
DTEND:20260322T134500Z
TZID:Europe/Moscow
LOCATION:Зал 1 
SUMMARY:Световые сценарии современного интерьера: функциональный подход и атмосферные решения.
DESCRIPTION: Световые сценарии современного интерьера: функциональный подход и атмосферные решения.\nhttps://szd-expo.ru/events/svetovye-sczenarii-sovremennogo-interera-funkczionalnyj-podhod-i-atmosfernye-resheniya/
URL:https://szd-expo.ru/events/svetovye-sczenarii-sovremennogo-interera-funkczionalnyj-podhod-i-atmosfernye-resheniya/
END:VEVENT
END:VCALENDAR