BEGIN:VCALENDAR
VERSION:2.0
PRODID:-//eventon.com NONSGML v1.0//EN
BEGIN:VEVENT
UID:69e4bd29ef7df
DTSTAMP:20260419T143153
DTSTART:20260321T084500Z
DTEND:20260321T093000Z
TZID:Europe/Moscow
LOCATION:Зал 2 
SUMMARY:Как детали влияют на чек покупки.Читаем покупателя по лицу.
DESCRIPTION: Как детали влияют на чек покупки.Читаем покупателя по лицу.\nhttps://szd-expo.ru/events/kak-detali-vliyayut-na-chek-pokupki-chitaem-pokupatelya-po-liczu/
URL:https://szd-expo.ru/events/kak-detali-vliyayut-na-chek-pokupki-chitaem-pokupatelya-po-liczu/
END:VEVENT
END:VCALENDAR