BEGIN:VCALENDAR
VERSION:2.0
PRODID:-//eventon.com NONSGML v1.0//EN
BEGIN:VEVENT
UID:69e4c0ad964e7
DTSTAMP:20260419T144653
DTSTART:20260320T100000Z
DTEND:20260320T103000Z
TZID:Europe/Moscow
LOCATION:Зал 2 
SUMMARY:Маркетплейс залогового имущества Банка ВТБ и партнеров.
DESCRIPTION: Маркетплейс залогового имущества Банка ВТБ и партнеров.\nhttps://szd-expo.ru/events/marketplejs-zalogovogo-imushhestva-banka-vtb-i-partnerov/
URL:https://szd-expo.ru/events/marketplejs-zalogovogo-imushhestva-banka-vtb-i-partnerov/
END:VEVENT
END:VCALENDAR